BEGIN:VCALENDAR
VERSION:2.0
PRODID:-//Ludwigsfelder Schwimmverein - Delphin 1990 e.V. - ECPv6.15.20//NONSGML v1.0//EN
CALSCALE:GREGORIAN
METHOD:PUBLISH
X-WR-CALNAME:Ludwigsfelder Schwimmverein - Delphin 1990 e.V.
X-ORIGINAL-URL:https://lsv1990.de
X-WR-CALDESC:Veranstaltungen für Ludwigsfelder Schwimmverein - Delphin 1990 e.V.
REFRESH-INTERVAL;VALUE=DURATION:PT1H
X-Robots-Tag:noindex
X-PUBLISHED-TTL:PT1H
BEGIN:VTIMEZONE
TZID:Europe/Helsinki
BEGIN:DAYLIGHT
TZOFFSETFROM:+0200
TZOFFSETTO:+0300
TZNAME:EEST
DTSTART:20150329T010000
END:DAYLIGHT
BEGIN:STANDARD
TZOFFSETFROM:+0300
TZOFFSETTO:+0200
TZNAME:EET
DTSTART:20151025T010000
END:STANDARD
BEGIN:DAYLIGHT
TZOFFSETFROM:+0200
TZOFFSETTO:+0300
TZNAME:EEST
DTSTART:20160327T010000
END:DAYLIGHT
BEGIN:STANDARD
TZOFFSETFROM:+0300
TZOFFSETTO:+0200
TZNAME:EET
DTSTART:20161030T010000
END:STANDARD
BEGIN:DAYLIGHT
TZOFFSETFROM:+0200
TZOFFSETTO:+0300
TZNAME:EEST
DTSTART:20170326T010000
END:DAYLIGHT
BEGIN:STANDARD
TZOFFSETFROM:+0300
TZOFFSETTO:+0200
TZNAME:EET
DTSTART:20171029T010000
END:STANDARD
END:VTIMEZONE
BEGIN:VEVENT
DTSTART;VALUE=DATE:20160716
DTEND;VALUE=DATE:20160718
DTSTAMP:20260424T155938
CREATED:20160529T155851Z
LAST-MODIFIED:20160529T155851Z
UID:1957-1468627200-1468799999@lsv1990.de
SUMMARY:Offene Landesmeisterschaften der Jahrgänge 2006 u. älter\, offen und Masters
DESCRIPTION:
URL:https://lsv1990.de/event/offene-landesmeisterschaften-der-jahrgaenge-2006-u-aelter-offen-und-masters/
LOCATION:Schwimmhalle „Am Brauhausberg“\, Max Planck Str. 1\, Potsdam\, 14473
CATEGORIES:Wettkampf
END:VEVENT
END:VCALENDAR