BEGIN:VCALENDAR
VERSION:2.0
PRODID:-//Ludwigsfelder Schwimmverein - Delphin 1990 e.V. - ECPv6.15.20//NONSGML v1.0//EN
CALSCALE:GREGORIAN
METHOD:PUBLISH
X-ORIGINAL-URL:https://lsv1990.de
X-WR-CALDESC:Veranstaltungen für Ludwigsfelder Schwimmverein - Delphin 1990 e.V.
REFRESH-INTERVAL;VALUE=DURATION:PT1H
X-Robots-Tag:noindex
X-PUBLISHED-TTL:PT1H
BEGIN:VTIMEZONE
TZID:Europe/Helsinki
BEGIN:DAYLIGHT
TZOFFSETFROM:+0200
TZOFFSETTO:+0300
TZNAME:EEST
DTSTART:20150329T010000
END:DAYLIGHT
BEGIN:STANDARD
TZOFFSETFROM:+0300
TZOFFSETTO:+0200
TZNAME:EET
DTSTART:20151025T010000
END:STANDARD
BEGIN:DAYLIGHT
TZOFFSETFROM:+0200
TZOFFSETTO:+0300
TZNAME:EEST
DTSTART:20160327T010000
END:DAYLIGHT
BEGIN:STANDARD
TZOFFSETFROM:+0300
TZOFFSETTO:+0200
TZNAME:EET
DTSTART:20161030T010000
END:STANDARD
BEGIN:DAYLIGHT
TZOFFSETFROM:+0200
TZOFFSETTO:+0300
TZNAME:EEST
DTSTART:20170326T010000
END:DAYLIGHT
BEGIN:STANDARD
TZOFFSETFROM:+0300
TZOFFSETTO:+0200
TZNAME:EET
DTSTART:20171029T010000
END:STANDARD
END:VTIMEZONE
BEGIN:VEVENT
DTSTART;TZID=Europe/Helsinki:20160719T160000
DTEND;TZID=Europe/Helsinki:20160719T230000
DTSTAMP:20260424T160403
CREATED:20151230T131751Z
LAST-MODIFIED:20151230T131751Z
UID:1672-1468944000-1468969200@lsv1990.de
SUMMARY:Vereinsfest 26 Jahre LSV "Delphin 1990" e.V.
DESCRIPTION:Von 16.00 Uhr bis  18.00 Uhr Kinderschwimmfest in der Therme \nAb 18.00 Uhr im Vereinsraum am City-Treff
URL:https://lsv1990.de/event/vereinsfest-26-jahre-lsv-delphin-1990-e-v/
LOCATION:Sportbad in der Kristallsaunatherma\, Fichtestr.\, 14974 Ludwigsfelde
CATEGORIES:Vereinsleben
ORGANIZER;CN="Ludwigsfelder SV 'Delphin 1990' e.V":MAILTO:info@lsv1990.de
END:VEVENT
END:VCALENDAR