BEGIN:VCALENDAR
VERSION:2.0
PRODID:-//Ludwigsfelder Schwimmverein - Delphin 1990 e.V. - ECPv6.15.20//NONSGML v1.0//EN
CALSCALE:GREGORIAN
METHOD:PUBLISH
X-WR-CALNAME:Ludwigsfelder Schwimmverein - Delphin 1990 e.V.
X-ORIGINAL-URL:https://lsv1990.de
X-WR-CALDESC:Veranstaltungen für Ludwigsfelder Schwimmverein - Delphin 1990 e.V.
REFRESH-INTERVAL;VALUE=DURATION:PT1H
X-Robots-Tag:noindex
X-PUBLISHED-TTL:PT1H
BEGIN:VTIMEZONE
TZID:Europe/Helsinki
BEGIN:DAYLIGHT
TZOFFSETFROM:+0200
TZOFFSETTO:+0300
TZNAME:EEST
DTSTART:20150329T010000
END:DAYLIGHT
BEGIN:STANDARD
TZOFFSETFROM:+0300
TZOFFSETTO:+0200
TZNAME:EET
DTSTART:20151025T010000
END:STANDARD
BEGIN:DAYLIGHT
TZOFFSETFROM:+0200
TZOFFSETTO:+0300
TZNAME:EEST
DTSTART:20160327T010000
END:DAYLIGHT
BEGIN:STANDARD
TZOFFSETFROM:+0300
TZOFFSETTO:+0200
TZNAME:EET
DTSTART:20161030T010000
END:STANDARD
BEGIN:DAYLIGHT
TZOFFSETFROM:+0200
TZOFFSETTO:+0300
TZNAME:EEST
DTSTART:20170326T010000
END:DAYLIGHT
BEGIN:STANDARD
TZOFFSETFROM:+0300
TZOFFSETTO:+0200
TZNAME:EET
DTSTART:20171029T010000
END:STANDARD
END:VTIMEZONE
BEGIN:VEVENT
DTSTART;TZID=Europe/Helsinki:20161126T091500
DTEND;TZID=Europe/Helsinki:20161126T130000
DTSTAMP:20260424T092706
CREATED:20161008T134749Z
LAST-MODIFIED:20240111T062840Z
UID:2148-1480151700-1480165200@lsv1990.de
SUMMARY:Herbstschwimmfest
DESCRIPTION:Es ist ein vereinsinterner Wettkampf der Jahrgänge 2006 und jünger \nAusschreibung
URL:https://lsv1990.de/event/herbstschwimmfest-2/
LOCATION:Sportbad in der Kristallsaunatherma\, Fichtestr.\, 14974 Ludwigsfelde
CATEGORIES:Wettkampf
ORGANIZER;CN="Ludwigsfelder SV 'Delphin 1990' e.V":MAILTO:info@lsv1990.de
END:VEVENT
END:VCALENDAR