BEGIN:VCALENDAR
VERSION:2.0
PRODID:-//Ludwigsfelder Schwimmverein - Delphin 1990 e.V. - ECPv6.15.20//NONSGML v1.0//EN
CALSCALE:GREGORIAN
METHOD:PUBLISH
X-ORIGINAL-URL:https://lsv1990.de
X-WR-CALDESC:Veranstaltungen für Ludwigsfelder Schwimmverein - Delphin 1990 e.V.
REFRESH-INTERVAL;VALUE=DURATION:PT1H
X-Robots-Tag:noindex
X-PUBLISHED-TTL:PT1H
BEGIN:VTIMEZONE
TZID:Europe/Helsinki
BEGIN:DAYLIGHT
TZOFFSETFROM:+0200
TZOFFSETTO:+0300
TZNAME:EEST
DTSTART:20160327T010000
END:DAYLIGHT
BEGIN:STANDARD
TZOFFSETFROM:+0300
TZOFFSETTO:+0200
TZNAME:EET
DTSTART:20161030T010000
END:STANDARD
BEGIN:DAYLIGHT
TZOFFSETFROM:+0200
TZOFFSETTO:+0300
TZNAME:EEST
DTSTART:20170326T010000
END:DAYLIGHT
BEGIN:STANDARD
TZOFFSETFROM:+0300
TZOFFSETTO:+0200
TZNAME:EET
DTSTART:20171029T010000
END:STANDARD
BEGIN:DAYLIGHT
TZOFFSETFROM:+0200
TZOFFSETTO:+0300
TZNAME:EEST
DTSTART:20180325T010000
END:DAYLIGHT
BEGIN:STANDARD
TZOFFSETFROM:+0300
TZOFFSETTO:+0200
TZNAME:EET
DTSTART:20181028T010000
END:STANDARD
END:VTIMEZONE
BEGIN:VEVENT
DTSTART;TZID=Europe/Helsinki:20171118T090000
DTEND;TZID=Europe/Helsinki:20171118T130000
DTSTAMP:20260421T200919
CREATED:20171008T073903Z
LAST-MODIFIED:20171008T073903Z
UID:2851-1510995600-1511010000@lsv1990.de
SUMMARY:Herbstschwimmfest 2007 und jünger (vereinsintern)
DESCRIPTION:Ausschreibung
URL:https://lsv1990.de/event/herbstschwimmfest-2007-und-juenger-vereinsintern/
LOCATION:Sportbad in der Kristall Wohlfühltherme\, Ostverbinder 10\, Ludwigsfelde\, 14974\, Deutschland
ORGANIZER;CN="Ludwigsfelder SV 'Delphin 1990' e.V":MAILTO:info@lsv1990.de
END:VEVENT
END:VCALENDAR