BEGIN:VCALENDAR
VERSION:2.0
PRODID:-//Ludwigsfelder Schwimmverein - Delphin 1990 e.V. - ECPv6.15.20//NONSGML v1.0//EN
CALSCALE:GREGORIAN
METHOD:PUBLISH
X-ORIGINAL-URL:https://lsv1990.de
X-WR-CALDESC:Veranstaltungen für Ludwigsfelder Schwimmverein - Delphin 1990 e.V.
REFRESH-INTERVAL;VALUE=DURATION:PT1H
X-Robots-Tag:noindex
X-PUBLISHED-TTL:PT1H
BEGIN:VTIMEZONE
TZID:Europe/Helsinki
BEGIN:DAYLIGHT
TZOFFSETFROM:+0200
TZOFFSETTO:+0300
TZNAME:EEST
DTSTART:20150329T010000
END:DAYLIGHT
BEGIN:STANDARD
TZOFFSETFROM:+0300
TZOFFSETTO:+0200
TZNAME:EET
DTSTART:20151025T010000
END:STANDARD
BEGIN:DAYLIGHT
TZOFFSETFROM:+0200
TZOFFSETTO:+0300
TZNAME:EEST
DTSTART:20160327T010000
END:DAYLIGHT
BEGIN:STANDARD
TZOFFSETFROM:+0300
TZOFFSETTO:+0200
TZNAME:EET
DTSTART:20161030T010000
END:STANDARD
BEGIN:DAYLIGHT
TZOFFSETFROM:+0200
TZOFFSETTO:+0300
TZNAME:EEST
DTSTART:20170326T010000
END:DAYLIGHT
BEGIN:STANDARD
TZOFFSETFROM:+0300
TZOFFSETTO:+0200
TZNAME:EET
DTSTART:20171029T010000
END:STANDARD
END:VTIMEZONE
BEGIN:VEVENT
DTSTART;VALUE=DATE:20160904
DTEND;VALUE=DATE:20160905
DTSTAMP:20260424T111015
CREATED:20160709T112736Z
LAST-MODIFIED:20160709T112736Z
UID:2008-1472947200-1473033599@lsv1990.de
SUMMARY:swim&bike-cross
DESCRIPTION:Folgende Einzelschwimmstrecken werden angeboten \n1\,2 oder 5 km
URL:https://lsv1990.de/event/swimbike-cross/
LOCATION:EJB am Werbellinsee\, Altenhof
CATEGORIES:Wettkampf
END:VEVENT
BEGIN:VEVENT
DTSTART;TZID=Europe/Helsinki:20160907T191500
DTEND;TZID=Europe/Helsinki:20160907T203000
DTSTAMP:20260424T111015
CREATED:20160709T063022Z
LAST-MODIFIED:20160709T063022Z
UID:2005-1473275700-1473280200@lsv1990.de
SUMMARY:Übungsleiterberatung
DESCRIPTION:
URL:https://lsv1990.de/event/uebungsleiterberatung-16/
LOCATION:City-Treff Ludwigsfelde\, Erich Klausener Straße 30\, Ludwigsfelde\, 14974
CATEGORIES:Übungsleiter
ORGANIZER;CN="Ludwigsfelder SV 'Delphin 1990' e.V":MAILTO:info@lsv1990.de
END:VEVENT
BEGIN:VEVENT
DTSTART;TZID=Europe/Helsinki:20160917T090000
DTEND;TZID=Europe/Helsinki:20160917T150000
DTSTAMP:20260424T111015
CREATED:20160709T112932Z
LAST-MODIFIED:20240111T062840Z
UID:2011-1474102800-1474124400@lsv1990.de
SUMMARY:23. Sportduo
DESCRIPTION:Ausschreibung
URL:https://lsv1990.de/event/23-sportduo/
LOCATION:Sportbad in der Kristallsaunatherma\, Fichtestr.\, 14974 Ludwigsfelde
CATEGORIES:Wettkampf
ORGANIZER;CN="Ludwigsfelder SV 'Delphin 1990' e.V":MAILTO:info@lsv1990.de
END:VEVENT
BEGIN:VEVENT
DTSTART;TZID=Europe/Helsinki:20160928T191500
DTEND;TZID=Europe/Helsinki:20160928T203000
DTSTAMP:20260424T111015
CREATED:20160709T113030Z
LAST-MODIFIED:20160709T113030Z
UID:2012-1475090100-1475094600@lsv1990.de
SUMMARY:Übungsleiterberatung
DESCRIPTION:
URL:https://lsv1990.de/event/uebungsleiterberatung-17/
LOCATION:City-Treff Ludwigsfelde\, Erich Klausener Straße 30\, Ludwigsfelde\, 14974
CATEGORIES:Übungsleiter
ORGANIZER;CN="Ludwigsfelder SV 'Delphin 1990' e.V":MAILTO:info@lsv1990.de
END:VEVENT
END:VCALENDAR