BEGIN:VCALENDAR
VERSION:2.0
PRODID:-//Ludwigsfelder Schwimmverein - Delphin 1990 e.V. - ECPv6.15.20//NONSGML v1.0//EN
CALSCALE:GREGORIAN
METHOD:PUBLISH
X-ORIGINAL-URL:https://lsv1990.de
X-WR-CALDESC:Veranstaltungen für Ludwigsfelder Schwimmverein - Delphin 1990 e.V.
REFRESH-INTERVAL;VALUE=DURATION:PT1H
X-Robots-Tag:noindex
X-PUBLISHED-TTL:PT1H
BEGIN:VTIMEZONE
TZID:Europe/Helsinki
BEGIN:DAYLIGHT
TZOFFSETFROM:+0200
TZOFFSETTO:+0300
TZNAME:EEST
DTSTART:20160327T010000
END:DAYLIGHT
BEGIN:STANDARD
TZOFFSETFROM:+0300
TZOFFSETTO:+0200
TZNAME:EET
DTSTART:20161030T010000
END:STANDARD
BEGIN:DAYLIGHT
TZOFFSETFROM:+0200
TZOFFSETTO:+0300
TZNAME:EEST
DTSTART:20170326T010000
END:DAYLIGHT
BEGIN:STANDARD
TZOFFSETFROM:+0300
TZOFFSETTO:+0200
TZNAME:EET
DTSTART:20171029T010000
END:STANDARD
BEGIN:DAYLIGHT
TZOFFSETFROM:+0200
TZOFFSETTO:+0300
TZNAME:EEST
DTSTART:20180325T010000
END:DAYLIGHT
BEGIN:STANDARD
TZOFFSETFROM:+0300
TZOFFSETTO:+0200
TZNAME:EET
DTSTART:20181028T010000
END:STANDARD
END:VTIMEZONE
BEGIN:VEVENT
DTSTART;TZID=Europe/Helsinki:20171208T160000
DTEND;TZID=Europe/Helsinki:20171208T180000
DTSTAMP:20260421T183042
CREATED:20171112T164450Z
LAST-MODIFIED:20171112T164510Z
UID:2906-1512748800-1512756000@lsv1990.de
SUMMARY:Kinderweihnachtsschwimmen
DESCRIPTION:Für Kinder der Jahrgänge 2005 und jünger für Vereinsmitglieder kostenfrei
URL:https://lsv1990.de/event/kinderweihnachstschwimmen/
LOCATION:Sportbad in der Kristallsaunatherma\, Fichtestr.\, 14974 Ludwigsfelde
CATEGORIES:Vereinsleben
ORGANIZER;CN="Ludwigsfelder SV 'Delphin 1990' e.V":MAILTO:info@lsv1990.de
END:VEVENT
BEGIN:VEVENT
DTSTART;TZID=Europe/Helsinki:20171220T191500
DTEND;TZID=Europe/Helsinki:20171220T203000
DTSTAMP:20260421T183042
CREATED:20161211T173553Z
LAST-MODIFIED:20161211T173553Z
UID:2300-1513797300-1513801800@lsv1990.de
SUMMARY:Übungsleiterberatung
DESCRIPTION:Für Übungsleiter die Starter beim Delphinpokal haben
URL:https://lsv1990.de/event/uebungsleiterberatung-31/
LOCATION:City-Treff Ludwigsfelde\, Erich Klausener Straße 30\, Ludwigsfelde\, 14974
CATEGORIES:Übungsleiter
ORGANIZER;CN="Ludwigsfelder SV 'Delphin 1990' e.V":MAILTO:info@lsv1990.de
END:VEVENT
END:VCALENDAR