BEGIN:VCALENDAR
VERSION:2.0
PRODID:-//Ludwigsfelder Schwimmverein - Delphin 1990 e.V. - ECPv6.15.20//NONSGML v1.0//EN
CALSCALE:GREGORIAN
METHOD:PUBLISH
X-WR-CALNAME:Ludwigsfelder Schwimmverein - Delphin 1990 e.V.
X-ORIGINAL-URL:https://lsv1990.de
X-WR-CALDESC:Veranstaltungen für Ludwigsfelder Schwimmverein - Delphin 1990 e.V.
REFRESH-INTERVAL;VALUE=DURATION:PT1H
X-Robots-Tag:noindex
X-PUBLISHED-TTL:PT1H
BEGIN:VTIMEZONE
TZID:Europe/Helsinki
BEGIN:DAYLIGHT
TZOFFSETFROM:+0200
TZOFFSETTO:+0300
TZNAME:EEST
DTSTART:20170326T010000
END:DAYLIGHT
BEGIN:STANDARD
TZOFFSETFROM:+0300
TZOFFSETTO:+0200
TZNAME:EET
DTSTART:20171029T010000
END:STANDARD
BEGIN:DAYLIGHT
TZOFFSETFROM:+0200
TZOFFSETTO:+0300
TZNAME:EEST
DTSTART:20180325T010000
END:DAYLIGHT
BEGIN:STANDARD
TZOFFSETFROM:+0300
TZOFFSETTO:+0200
TZNAME:EET
DTSTART:20181028T010000
END:STANDARD
BEGIN:DAYLIGHT
TZOFFSETFROM:+0200
TZOFFSETTO:+0300
TZNAME:EEST
DTSTART:20190331T010000
END:DAYLIGHT
BEGIN:STANDARD
TZOFFSETFROM:+0300
TZOFFSETTO:+0200
TZNAME:EET
DTSTART:20191027T010000
END:STANDARD
END:VTIMEZONE
BEGIN:VEVENT
DTSTART;TZID=Europe/Helsinki:20180113T090000
DTEND;TZID=Europe/Helsinki:20180113T140000
DTSTAMP:20260421T150913
CREATED:20171112T164734Z
LAST-MODIFIED:20171112T164734Z
UID:2907-1515834000-1515852000@lsv1990.de
SUMMARY:Gemeinsame Veranstaltung Übungsleiter und Vorstand
DESCRIPTION:Einzelheiten erscheinen demnächst
URL:https://lsv1990.de/event/gemeinsame-veranstaltung-uebungsleiter-und-vorstand/
CATEGORIES:Vereinsleben
ORGANIZER;CN="Ludwigsfelder SV 'Delphin 1990' e.V":MAILTO:info@lsv1990.de
END:VEVENT
BEGIN:VEVENT
DTSTART;TZID=Europe/Helsinki:20180120T090000
DTEND;TZID=Europe/Helsinki:20180120T170000
DTSTAMP:20260421T150913
CREATED:20171118T170927Z
LAST-MODIFIED:20240111T062840Z
UID:2923-1516438800-1516467600@lsv1990.de
SUMMARY:26. Delphinpokal
DESCRIPTION:Ausschreibung Delphinpokal
URL:https://lsv1990.de/event/26-delphinpokal-2/
LOCATION:Sportbad in der Kristall Wohlfühltherme\, Ostverbinder 10\, Ludwigsfelde\, 14974\, Deutschland
CATEGORIES:Wettkampf
ORGANIZER;CN="Ludwigsfelder SV 'Delphin 1990' e.V":MAILTO:info@lsv1990.de
END:VEVENT
BEGIN:VEVENT
DTSTART;TZID=Europe/Helsinki:20180131T191500
DTEND;TZID=Europe/Helsinki:20180131T201500
DTSTAMP:20260421T150913
CREATED:20171231T182053Z
LAST-MODIFIED:20171231T182053Z
UID:2975-1517426100-1517429700@lsv1990.de
SUMMARY:Übungsleiterberatung
DESCRIPTION:
URL:https://lsv1990.de/event/uebungsleiterberatung-32/
LOCATION:City-Treff Ludwigsfelde\, Erich Klausener Straße 30\, Ludwigsfelde\, 14974
CATEGORIES:Übungsleiter
ORGANIZER;CN="Ludwigsfelder SV 'Delphin 1990' e.V":MAILTO:info@lsv1990.de
END:VEVENT
END:VCALENDAR